BEGIN:VCALENDAR
VERSION:2.0
PRODID:-//wp-events-plugin.com//7.2.3.1//EN
TZID:Europe/Paris
X-WR-TIMEZONE:Europe/Paris
BEGIN:VEVENT
UID:7@test.fonsorbes-judo.fr
DTSTART;TZID=Europe/Paris:20250623T180000
DTEND;TZID=Europe/Paris:20250623T200000
DTSTAMP:20250610T194844Z
URL:https://test.fonsorbes-judo.fr/events/assemble-generale-et-remise-de-g
 rade/
SUMMARY:Assemblée générale et remise de grades
DESCRIPTION:Assemblée générale du club et remise des nouveaux grades à 
 nos judokas.\n\nSuivie d'un repas partage. Format auberge espagnole : chac
 un apporte un plat à partager. Le club fournit les boissons.
ATTACH;FMTTYPE=image/jpeg:https://test.fonsorbes-judo.fr/wp-content/upload
 s/2024/12/Logo_512-2.png
CATEGORIES:Rencontre
LOCATION:Dojo de Fonsorbes\, Chem. des Boulbènes\, Fonsorbes\, Occitanie\,
  31470\, France
X-APPLE-STRUCTURED-LOCATION;VALUE=URI;X-ADDRESS=Chem. des Boulbènes\, Fons
 orbes\, Occitanie\, 31470\, France;X-APPLE-RADIUS=100;X-TITLE=Dojo de Fons
 orbes:geo:0,0
END:VEVENT
BEGIN:VTIMEZONE
TZID:Europe/Paris
X-LIC-LOCATION:Europe/Paris
BEGIN:DAYLIGHT
DTSTART:20250330T030000
TZOFFSETFROM:+0100
TZOFFSETTO:+0200
TZNAME:CEST
END:DAYLIGHT
END:VTIMEZONE
END:VCALENDAR