BEGIN:VCALENDAR
VERSION:2.0
PRODID:-//wp-events-plugin.com//7.2.3.1//EN
TZID:Europe/Paris
X-WR-TIMEZONE:Europe/Paris
BEGIN:VEVENT
UID:11@test.fonsorbes-judo.fr
DTSTART;TZID=Europe/Paris:20250302T090000
DTEND;TZID=Europe/Paris:20250302T140000
DTSTAMP:20250117T095455Z
URL:https://test.fonsorbes-judo.fr/events/competition-amicale-de-leguevin-
 2/
SUMMARY:Compétition amicale de Léguevin
DESCRIPTION:Compétition pour Mini Poussin\, Poussin (animation sol) & Benj
 amin (combats)
ATTACH;FMTTYPE=image/jpeg:https://test.fonsorbes-judo.fr/wp-content/upload
 s/2025/01/Logo-Leguevin.png
CATEGORIES:Inter club
LOCATION:Légevin (habituel)\, gymnase des Pins Verts (à côté du collèg
 e) route de La Salvetat \, Léguevin\, 31490\, France
X-APPLE-STRUCTURED-LOCATION;VALUE=URI;X-ADDRESS=gymnase des Pins Verts (à 
 côté du collège) route de La Salvetat \, Léguevin\, 31490\, France;X-A
 PPLE-RADIUS=100;X-TITLE=Légevin (habituel):geo:0,0
END:VEVENT
BEGIN:VTIMEZONE
TZID:Europe/Paris
X-LIC-LOCATION:Europe/Paris
BEGIN:STANDARD
DTSTART:20241027T020000
TZOFFSETFROM:+0200
TZOFFSETTO:+0100
TZNAME:CET
END:STANDARD
END:VTIMEZONE
END:VCALENDAR