BEGIN:VCALENDAR
VERSION:2.0
PRODID:-//wp-events-plugin.com//7.2.3.1//EN
TZID:Europe/Paris
X-WR-TIMEZONE:Europe/Paris
BEGIN:VEVENT
UID:8@test.fonsorbes-judo.fr
DTSTART;TZID=Europe/Paris:20250202T090000
DTEND;TZID=Europe/Paris:20250202T140000
DTSTAMP:20250118T072553Z
URL:https://test.fonsorbes-judo.fr/events/competition-amicale-de-leguevin/
SUMMARY:Compétition amicale de Léguevin -Reportée-
DESCRIPTION:Compétition pour Mini Poussin\, Poussin (animation sol) & Benj
 amin (combats)
ATTACH;FMTTYPE=image/jpeg:https://test.fonsorbes-judo.fr/wp-content/upload
 s/2025/01/Logo-Leguevin-Report.png
CATEGORIES:Inter club
LOCATION:Léguevin\, Gymnase Ecole publique Madeleine Brès\, Léguevin\, 3
 1490\, France
X-APPLE-STRUCTURED-LOCATION;VALUE=URI;X-ADDRESS=Gymnase Ecole publique Made
 leine Brès\, Léguevin\, 31490\, France;X-APPLE-RADIUS=100;X-TITLE=Légue
 vin:geo:0,0
END:VEVENT
BEGIN:VTIMEZONE
TZID:Europe/Paris
X-LIC-LOCATION:Europe/Paris
BEGIN:STANDARD
DTSTART:20241027T020000
TZOFFSETFROM:+0200
TZOFFSETTO:+0100
TZNAME:CET
END:STANDARD
END:VTIMEZONE
END:VCALENDAR