BEGIN:VCALENDAR
VERSION:2.0
PRODID:-//wp-events-plugin.com//7.2.3.1//EN
TZID:Europe/Paris
X-WR-TIMEZONE:Europe/Paris
BEGIN:VEVENT
UID:12@test.fonsorbes-judo.fr
DTSTART;TZID=Europe/Paris;VALUE=DATE:20250406
DTEND;TZID=Europe/Paris;VALUE=DATE:20250407
DTSTAMP:20250326T215634Z
URL:https://test.fonsorbes-judo.fr/events/competition-de-blagnac/
SUMMARY:Compétition de Blagnac
DESCRIPTION:Nous sommes invités à la compétition de Blagnac ouverte à t
 out judoka de Eveil/Baby à Minime.\n\nLes inscriptions se font à l'aide 
 de ce formulaire (ici) avec le mot de passe JudoAF.\n\nHoraires des pesée
 s : \n\n 	9h00 à 9h15 : Minimes Garçons/Filles (né.e.s en 2011-2012)\n
  	9h30 à 9h45 : Eveil/Baby Garçons (nés en 2019-2020)\n 	10h00 à 10h15
  : Eveil/Baby Filles (nées en 2019-2020)\n 	10h15 à 10h30 : Poussines (n
 ées en 2015-2016)\n 	10h45 à 11h00 : Poussins (nés en 2015-2016)\n 	13h
 30 à 13h45 : Benjamin.e.s (né.e.s en 2013-2014)\n 	14h00 à 14h15 : Mini
  poussines (nées en 2017-2018)\n 	14h15 à 14h45 : Mini poussins (nés en
  2017-2018)\n
ATTACH;FMTTYPE=image/jpeg:https://test.fonsorbes-judo.fr/wp-content/upload
 s/2025/03/blagnac.png
LOCATION:Blagnac\, GYMNASE GUILLAUMET  20 Chemin Bélisaire\, Blagnac\,  31
 700\, France
X-APPLE-STRUCTURED-LOCATION;VALUE=URI;X-ADDRESS=GYMNASE GUILLAUMET  20 Chem
 in Bélisaire\, Blagnac\,  31700\, France;X-APPLE-RADIUS=100;X-TITLE=Blagn
 ac:geo:0,0
END:VEVENT
BEGIN:VTIMEZONE
TZID:Europe/Paris
X-LIC-LOCATION:Europe/Paris
BEGIN:DAYLIGHT
DTSTART:20250330T030000
TZOFFSETFROM:+0100
TZOFFSETTO:+0200
TZNAME:CEST
END:DAYLIGHT
END:VTIMEZONE
END:VCALENDAR