BEGIN:VCALENDAR
VERSION:2.0
PRODID:-//wp-events-plugin.com//7.2.3.1//EN
TZID:Europe/Paris
X-WR-TIMEZONE:Europe/Paris
BEGIN:VEVENT
UID:14@test.fonsorbes-judo.fr
DTSTART;TZID=Europe/Paris:20250504T083000
DTEND;TZID=Europe/Paris:20250504T083000
DTSTAMP:20250416T185956Z
URL:https://test.fonsorbes-judo.fr/events/competition-de-colomiers/
SUMMARY:Compétition de Colomiers
DESCRIPTION:Nous sommes invités à la compétition de Colomiers\, ouverte 
 à tout judoka de Mini-Poussin à Cadet.\n\nLes inscriptions se font à l'
 aide de ce formulaire (ici) avec le mot de passe JudoAF.\n\nHoraires des p
 esées :\n\n 	10h00 à 10h15 : Poussin 1 (2016)\n 	11h00 à 11h15 : Poussi
 n 2 (2015)\n 	12h00 à 12h15 : Mini-Poussin 1 (2018)\n 	13h00 à 13h15 : M
 ini-Poussin 2 (2017)\n 	14h00 à 14h15 : Benjamin (2013-2014)\n 	15h00 à 
 15h30 : Minime (2011-2012)\n 	15h15 à 15h30 : Cadet (2008 à 2010)\n
ATTACH;FMTTYPE=image/jpeg:https://test.fonsorbes-judo.fr/wp-content/upload
 s/2025/04/Colomiers.png
CATEGORIES:Inter club
LOCATION:Colomiers\, Gymnase Victor HUGO 13 Rue Alfred de Vigny\, Colomiers
 \, 31770 \, France
X-APPLE-STRUCTURED-LOCATION;VALUE=URI;X-ADDRESS=Gymnase Victor HUGO 13 Rue 
 Alfred de Vigny\, Colomiers\, 31770 \, France;X-APPLE-RADIUS=100;X-TITLE=C
 olomiers:geo:0,0
END:VEVENT
BEGIN:VTIMEZONE
TZID:Europe/Paris
X-LIC-LOCATION:Europe/Paris
BEGIN:DAYLIGHT
DTSTART:20250330T030000
TZOFFSETFROM:+0100
TZOFFSETTO:+0200
TZNAME:CEST
END:DAYLIGHT
END:VTIMEZONE
END:VCALENDAR