BEGIN:VCALENDAR
VERSION:2.0
PRODID:-//wp-events-plugin.com//7.2.3.1//EN
TZID:Europe/Paris
X-WR-TIMEZONE:Europe/Paris
BEGIN:VEVENT
UID:9@test.fonsorbes-judo.fr
DTSTART;TZID=Europe/Paris:20250112T083000
DTEND;TZID=Europe/Paris:20250112T170000
DTSTAMP:20250111T134356Z
URL:https://test.fonsorbes-judo.fr/events/competition-de-plaisance-du-touc
 h/
SUMMARY:Compétition de Plaisance-du-Touch
DESCRIPTION:Nous sommes invités à la compétition de Plaisance-du-Touch\,
  ouverte à tout judoka ayant\, au minimum\, la ceinture blanche &amp\; ja
 une et étant né en 2017 et après.\n\nLes horaires sont les suivants:\n\
 n 	08h30 à 09h00 Benjamins (2013-2014)\n 	09h30 à 10h00 Minimes (2011-20
 12)\n 	10h30 à 11h00 Cadets (2008 à 2010)\n 	11h00 à 11h30 Juniors/Seni
 ors (2007 et avant) *\n 	13h00 à 13h30 Poussins (2015-2016)\n 	15h00 à 1
 5h30 Mini-Poussins (2017 uniquement)\n 	17h00 Remise des récompenses suiv
 ie du verre de l’amitié\n\n(*) A l'issue des phases de poules\, les jun
 iors/séniors peuvent se qualifier pour un tableau final.\n\nInscription: 
 attention\, 2 formulaires\n\n 	Inscription à la compétition : inscripti
 on officielle\n 	Inscription auprès du club : inscription AFJ (mot de p
 asse JudoAF)\n\nToutes les informations sont sur le site internet de Plais
 ance : Invitation\, Informations\, Procédure d'inscription\n\n&nbsp\;
ATTACH;FMTTYPE=image/jpeg:https://test.fonsorbes-judo.fr/wp-content/upload
 s/2025/01/Logo-SPC.png
CATEGORIES:Inter club
LOCATION:Plaisance-du-Touch\, Gymnase Jules Verne\, 8 Avenue Montaigne\, Pl
 aisance-du-Touch\, 31830 \, France
X-APPLE-STRUCTURED-LOCATION;VALUE=URI;X-ADDRESS=Gymnase Jules Verne\, 8 Ave
 nue Montaigne\, Plaisance-du-Touch\, 31830 \, France;X-APPLE-RADIUS=100;X-
 TITLE=Plaisance-du-Touch:geo:0,0
END:VEVENT
BEGIN:VTIMEZONE
TZID:Europe/Paris
X-LIC-LOCATION:Europe/Paris
BEGIN:STANDARD
DTSTART:20241027T020000
TZOFFSETFROM:+0200
TZOFFSETTO:+0100
TZNAME:CET
END:STANDARD
END:VTIMEZONE
END:VCALENDAR