BEGIN:VCALENDAR
VERSION:2.0
PRODID:-//wp-events-plugin.com//7.2.3.1//EN
TZID:Europe/Paris
X-WR-TIMEZONE:Europe/Paris
BEGIN:VEVENT
UID:16@test.fonsorbes-judo.fr
DTSTART;TZID=Europe/Paris:20250601T090000
DTEND;TZID=Europe/Paris:20250601T180000
DTSTAMP:20250518T220612Z
URL:https://test.fonsorbes-judo.fr/events/competition-de-rieumes/
SUMMARY:Compétition de Rieumes
DESCRIPTION:Nous sommes invités à une compétition organisée par le Tori
 i Judo Club à Rieumes le 1er Juin.\n\nSeuls les Poussins et les Mini Pous
 sin sont concernés.\n\n&nbsp\;\nPoussin (2015-2016)\nCompétition en équ
 ipe.\nPesée de 9h00 à 9h30.\n&gt\;&gt\; Inscription obligatoire ici (mo
 t de passe JudoAF)\n\nLa compétition en équipe est une première pour no
 us. Il s'agit de constituer des équipes de 5 judokas de diverses catégor
 ies de poids : -27Kg\, -30Kg\, -34Kg\, -38Kg\, -42Kg (tolérance 500 gr). 
 Les équipes sont mixtes et peuvent inclure des remplaçants.\n\nChaque ju
 doka combat contre un judoka de la même catégorie de poids d'une autre 
 équipe. A la fin\, l'équipe avec le plus de victoires gagne.\n\nLe tourn
 oi est limité à 16 équipes\, donc nous ne pourrons en engager qu'une ou
  deux. Les sélections seront faites avant la compétition en fonction du 
 nombre de judoka dans les catégorie de poids.\n\nTout désistement pénal
 isant l'équipe\, nous vous demandons de prévenir d'un empêchement au mo
 ins 2 jours à l'avance.\n\n&nbsp\;\nMini Poussin (2017-2018)\nAnimation c
 lassique en individuel\, en poule.\nPesée de 15h00 à 15h30.\n&gt\;&gt\; 
 Inscription obligatoire ici (mot de passe JudoAF).\n\n&nbsp\;
ATTACH;FMTTYPE=image/jpeg:https://test.fonsorbes-judo.fr/wp-content/upload
 s/2025/05/Torii.jpg
CATEGORIES:Inter club
LOCATION:Rieumes\, Gymnase Municipal - 4 rue du Stade\, Rieumes\, 31370\, F
 rance
X-APPLE-STRUCTURED-LOCATION;VALUE=URI;X-ADDRESS=Gymnase Municipal - 4 rue d
 u Stade\, Rieumes\, 31370\, France;X-APPLE-RADIUS=100;X-TITLE=Rieumes:geo:
 0,0
END:VEVENT
BEGIN:VTIMEZONE
TZID:Europe/Paris
X-LIC-LOCATION:Europe/Paris
BEGIN:DAYLIGHT
DTSTART:20250330T030000
TZOFFSETFROM:+0100
TZOFFSETTO:+0200
TZNAME:CEST
END:DAYLIGHT
END:VTIMEZONE
END:VCALENDAR