BEGIN:VCALENDAR
VERSION:2.0
PRODID:-//wp-events-plugin.com//7.2.3.1//EN
TZID:Europe/Paris
X-WR-TIMEZONE:Europe/Paris
BEGIN:VEVENT
UID:10@test.fonsorbes-judo.fr
DTSTART;TZID=Europe/Paris:20250126T090000
DTEND;TZID=Europe/Paris:20250126T160000
DTSTAMP:20250111T134901Z
URL:https://test.fonsorbes-judo.fr/events/competition-de-saint-lys/
SUMMARY:Compétition de Saint Lys
DESCRIPTION:Nous sommes invités à la compétition de Saint Lys ouverte au
 x Baby -&gt\; Benjamin.\n\nLes horaires sont les suivants :\n\n 	09h00 à 
 9h30 : Benjamins Filles/Garçons (2013-2014)\n 	10h00 à 10h30 : Poussines
  (2015-2016)\n 	11h00 à 11h45 : Poussins (2015-2016)\n 	12h30 à 13h00 : 
 Mini Poussins (2017-2018) : Animation au sol\n 	14h00 à 14h30 : Mini Pous
 sines (2017-2018) : Animation au sol\n 	15h30 à 16h00 Babies Filles/Garç
 ons (2019-2020) : Animation au sol\n\nLa journée sera non-stop\, avec buv
 ette et sandwiches.\n\nFormulaire d'inscription : inscription (mot de pas
 se JudoAF)
ATTACH;FMTTYPE=image/jpeg:https://test.fonsorbes-judo.fr/wp-content/upload
 s/2025/01/Saintlys.png
CATEGORIES:Inter club
LOCATION:Saint Lys\, Salle Gravette\, 10 rue de la gravette\, Saint lys\, 3
 1470\, France
X-APPLE-STRUCTURED-LOCATION;VALUE=URI;X-ADDRESS=Salle Gravette\, 10 rue de 
 la gravette\, Saint lys\, 31470\, France;X-APPLE-RADIUS=100;X-TITLE=Saint 
 Lys:geo:0,0
END:VEVENT
BEGIN:VTIMEZONE
TZID:Europe/Paris
X-LIC-LOCATION:Europe/Paris
BEGIN:STANDARD
DTSTART:20241027T020000
TZOFFSETFROM:+0200
TZOFFSETTO:+0100
TZNAME:CET
END:STANDARD
END:VTIMEZONE
END:VCALENDAR