BEGIN:VCALENDAR
VERSION:2.0
PRODID:-//wp-events-plugin.com//7.2.3.1//EN
TZID:Europe/Paris
X-WR-TIMEZONE:Europe/Paris
BEGIN:VEVENT
UID:13@test.fonsorbes-judo.fr
DTSTART;TZID=Europe/Paris:20250330T083000
DTEND;TZID=Europe/Paris:20250330T083000
DTSTAMP:20250326T215213Z
URL:https://test.fonsorbes-judo.fr/events/competition-de-villeneuve-tolosa
 ne/
SUMMARY:Compétition de Villeneuve Tolosane
DESCRIPTION:Nous sommes invités à la compétition de Villeneuve Tolosane\
 , ouverte à tout judoka de Eveil à Minime.\n\nLes inscriptions se font 
 à l'aide de ce formulaire (ici) avec le mot de passe JudoAF.\n\nHoraires 
 des pesées :\n\n 	08h30 à 09h00 (animation sol) : Eveil Garçons/Filles 
 (né.e.s en 2019-2020)\n 	09h15 à 09h45 : Mini Poussin (né en 2017-2018)
 \n 	10h30 à 11h00 : Mini Poussine (née en 2017-2018)\n 	12h00 à 12h30 :
  Poussin (né en 2015-2016)\n 	13h00 à 13h30 : Poussine (née en 2015-201
 6)\n 	14h30 à 15h00 : Benjamin.e (né.e en 2013-2014)\n 	15h00 à 15h30 :
  Minime (né en 2011-2012)\n
ATTACH;FMTTYPE=image/jpeg:https://test.fonsorbes-judo.fr/wp-content/upload
 s/2025/03/villeneuve-1.jpg
CATEGORIES:Inter club
LOCATION:Villeneuve\, 26 Rte de Portet\, Villeneuve-Tolosane\, 31270\, Fran
 ce
X-APPLE-STRUCTURED-LOCATION;VALUE=URI;X-ADDRESS=26 Rte de Portet\, Villeneu
 ve-Tolosane\, 31270\, France;X-APPLE-RADIUS=100;X-TITLE=Villeneuve:geo:0,0
END:VEVENT
BEGIN:VTIMEZONE
TZID:Europe/Paris
X-LIC-LOCATION:Europe/Paris
BEGIN:DAYLIGHT
DTSTART:20250330T030000
TZOFFSETFROM:+0100
TZOFFSETTO:+0200
TZNAME:CEST
END:DAYLIGHT
END:VTIMEZONE
END:VCALENDAR