BEGIN:VCALENDAR
VERSION:2.0
PRODID:-//wp-events-plugin.com//7.2.3.1//EN
TZID:Europe/Paris
X-WR-TIMEZONE:Europe/Paris
BEGIN:VEVENT
UID:5@test.fonsorbes-judo.fr
DTSTART;TZID=Europe/Paris:20250316T090000
DTEND;TZID=Europe/Paris:20250316T180000
DTSTAMP:20250316T030632Z
URL:https://test.fonsorbes-judo.fr/events/competition-du-club/
SUMMARY:Compétition du club
DESCRIPTION:HORAIRES DE PESÉES\n\n\n\nPesée \nCatégorie Année de naiss
 ance \n\n\n09h00-09h15 \nMinimes (Fille/Garçon) 2011 et 2012 \n\n\n09h
 15-09h45 \nBenjamins (Fille/Garçon) 2013 et 2014 \n\n\n10h00-10h30 \nB
 aby Judo (Fille) 2019 et 2020 \n\n\n10h30-11h00 \nBaby Judo (Garçon) 20
 19 et 2020 \n\n\n11h00-11h30 \nPoussines (Fille) 2015 et 2016 \n\n\n12h
 00-12h30 \nPoussins (Garçon) 2015 et 2016 \n\n\n13h15-13h45 \nMini-Pou
 ssines (Fille) 2017 et 2018 \n\n\n14h15-14h45 \nMini-Poussins (Garçon) 
 2017 et 2018 \n\n\n16h00-16h15 \nCadets à Vétérans (Fille/Garçon) 20
 10 et avant \n\n\n\nLes inscriptions se font au moment de la pesée.
ATTACH;FMTTYPE=image/jpeg:https://test.fonsorbes-judo.fr/wp-content/upload
 s/2024/12/Affiche-Tournoi-Rene-Vivies-2025.png
CATEGORIES:Inter club
LOCATION:Dojo de Fonsorbes\, Chem. des Boulbènes\, Fonsorbes\, Occitanie\,
  31470\, France
X-APPLE-STRUCTURED-LOCATION;VALUE=URI;X-ADDRESS=Chem. des Boulbènes\, Fons
 orbes\, Occitanie\, 31470\, France;X-APPLE-RADIUS=100;X-TITLE=Dojo de Fons
 orbes:geo:0,0
END:VEVENT
BEGIN:VTIMEZONE
TZID:Europe/Paris
X-LIC-LOCATION:Europe/Paris
BEGIN:STANDARD
DTSTART:20241027T020000
TZOFFSETFROM:+0200
TZOFFSETTO:+0100
TZNAME:CET
END:STANDARD
END:VTIMEZONE
END:VCALENDAR