BEGIN:VCALENDAR
VERSION:2.0
PRODID:-//wp-events-plugin.com//7.2.3.1//EN
TZID:Europe/Paris
X-WR-TIMEZONE:Europe/Paris
BEGIN:VEVENT
UID:20@test.fonsorbes-judo.fr
DTSTART;TZID=Europe/Paris:20250625T000000
DTEND;TZID=Europe/Paris:20250625T000000
DTSTAMP:20250610T194932Z
URL:https://test.fonsorbes-judo.fr/events/cours-parent-enfant-eveil-mini-p
 oussin/
SUMMARY:Cours parents-enfants Éveil Judo / Mini-Poussin
DESCRIPTION:Cours parents-enfants :\n\n 	Éveil Judo (2020) à 17h30\n 	Min
 i-Poussin (2017-2018) à 18h30\n\nLes parents sont attendus sur le tatami 
 pour partager ce cours avec leur enfant.\n\nAttention les parents ! Vos en
 fants vont vous en faire voir de toutes les couleurs ! D'autant qu'ils aur
 ont reçu leur nouvelle ceinture quelques jours plus tôt !!
ATTACH;FMTTYPE=image/jpeg:https://test.fonsorbes-judo.fr/wp-content/upload
 s/2025/05/ParentsEnfants.jpg
CATEGORIES:Rencontre
LOCATION:Dojo de Fonsorbes\, Chem. des Boulbènes\, Fonsorbes\, Occitanie\,
  31470\, France
X-APPLE-STRUCTURED-LOCATION;VALUE=URI;X-ADDRESS=Chem. des Boulbènes\, Fons
 orbes\, Occitanie\, 31470\, France;X-APPLE-RADIUS=100;X-TITLE=Dojo de Fons
 orbes:geo:0,0
END:VEVENT
BEGIN:VTIMEZONE
TZID:Europe/Paris
X-LIC-LOCATION:Europe/Paris
BEGIN:DAYLIGHT
DTSTART:20250330T030000
TZOFFSETFROM:+0100
TZOFFSETTO:+0200
TZNAME:CEST
END:DAYLIGHT
END:VTIMEZONE
END:VCALENDAR