BEGIN:VCALENDAR
VERSION:2.0
PRODID:-//wp-events-plugin.com//7.2.3.1//EN
TZID:Europe/Paris
X-WR-TIMEZONE:Europe/Paris
BEGIN:VEVENT
UID:25@test.fonsorbes-judo.fr
DTSTART;TZID=Europe/Paris:20250903T180000
DTEND;TZID=Europe/Paris:20250903T190000
DTSTAMP:20250710T185744Z
URL:https://test.fonsorbes-judo.fr/events/inscription-2/
SUMMARY:Inscription
DESCRIPTION:Permanence d'inscription\, merci de venir nous voir avec l'ense
 mble du dossier :\n\n 	le bulletin d’adhésion\,\n 	l'attestation et le
  certificat médical\,\n 	le règlement (nous acceptons les paiements en C
 B\, espèce\, chèque\, ANCV et Pass’Sport)\n\nAttention: Pensez à vous
  pré-inscrire avant de venir: https://test.fonsorbes-judo.fr/inscription\
 n\nVous pouvez retrouver toutes les informations relatives aux inscription
 s sur notre site internet : https://test.fonsorbes-judo.fr
ATTACH;FMTTYPE=image/jpeg:https://test.fonsorbes-judo.fr/wp-content/upload
 s/2025/07/inscription.png
LOCATION:Dojo de Fonsorbes\, Chem. des Boulbènes\, Fonsorbes\, Occitanie\,
  31470\, France
X-APPLE-STRUCTURED-LOCATION;VALUE=URI;X-ADDRESS=Chem. des Boulbènes\, Fons
 orbes\, Occitanie\, 31470\, France;X-APPLE-RADIUS=100;X-TITLE=Dojo de Fons
 orbes:geo:0,0
END:VEVENT
BEGIN:VTIMEZONE
TZID:Europe/Paris
X-LIC-LOCATION:Europe/Paris
BEGIN:DAYLIGHT
DTSTART:20250330T030000
TZOFFSETFROM:+0100
TZOFFSETTO:+0200
TZNAME:CEST
END:DAYLIGHT
END:VTIMEZONE
END:VCALENDAR