BEGIN:VCALENDAR
VERSION:2.0
PRODID:-//wp-events-plugin.com//7.2.3.1//EN
TZID:Europe/Paris
X-WR-TIMEZONE:Europe/Paris
BEGIN:VEVENT
UID:1@test.fonsorbes-judo.fr
DTSTART;TZID=Europe/Paris:20250115T180000
DTEND;TZID=Europe/Paris:20250115T194500
DTSTAMP:20250111T134512Z
URL:https://test.fonsorbes-judo.fr/events/kagami-biraki-galette-des-rois/
SUMMARY:Kagami Biraki + galette des rois
DESCRIPTION:Le kagami biraki (鏡開き) est une tradition japonaise\, réc
 upérée dans les arts martiaux pour célébrer la nouvelle année. Chez l
 es samouraïs\, c'est l'occasion de nettoyer les armes et polir les armure
 s. Au judo\, la coutume du Kagami Biraki a été introduite au Kōdōkan
  en 1884. \n\nElle se déroule selon le programme : \n\n 	vœux\, \n 	cour
 s commun\, \n 	remise de grades.\n\nNormalement\, au Japon\, le Kagami Bir
 aki se déroule autour d'un baril de saké\, mais nous allons faire une en
 torse à cette tradition et la mixer avec notre galette des rois.
ATTACH;FMTTYPE=image/jpeg:https://test.fonsorbes-judo.fr/wp-content/upload
 s/2024/12/KAGAMI-BIRAKI-2025-e1736356802451.png
CATEGORIES:Rencontre
LOCATION:Dojo de Fonsorbes\, Chem. des Boulbènes\, Fonsorbes\, Occitanie\,
  31470\, France
X-APPLE-STRUCTURED-LOCATION;VALUE=URI;X-ADDRESS=Chem. des Boulbènes\, Fons
 orbes\, Occitanie\, 31470\, France;X-APPLE-RADIUS=100;X-TITLE=Dojo de Fons
 orbes:geo:0,0
END:VEVENT
BEGIN:VTIMEZONE
TZID:Europe/Paris
X-LIC-LOCATION:Europe/Paris
BEGIN:STANDARD
DTSTART:20241027T020000
TZOFFSETFROM:+0200
TZOFFSETTO:+0100
TZNAME:CET
END:STANDARD
END:VTIMEZONE
END:VCALENDAR