BEGIN:VCALENDAR
VERSION:2.0
PRODID:-//wp-events-plugin.com//7.2.3.1//EN
TZID:Europe/Paris
X-WR-TIMEZONE:Europe/Paris
BEGIN:VEVENT
UID:19@test.fonsorbes-judo.fr
DTSTART;TZID=Europe/Paris:20250616T000000
DTEND;TZID=Europe/Paris:20250616T000000
DTSTAMP:20250610T194705Z
URL:https://test.fonsorbes-judo.fr/events/remise-grades-baby-cours-parents
 -enfants/
SUMMARY:Remise de grades Baby Judo + cours parents-enfants
DESCRIPTION:Hop hop hop\, les nouvelles ceintures pour les Baby Judo (nés 
 en 2019) !\n\nLes parents sont attendus sur le tatami pour partager ce cou
 rs avec leur enfant.\n\nAttention les parents ! Vos enfants vont vous en f
 aire voir de toutes les couleurs !
ATTACH;FMTTYPE=image/jpeg:https://test.fonsorbes-judo.fr/wp-content/upload
 s/2025/05/grades.png
CATEGORIES:Rencontre
LOCATION:Dojo de Fonsorbes\, Chem. des Boulbènes\, Fonsorbes\, Occitanie\,
  31470\, France
X-APPLE-STRUCTURED-LOCATION;VALUE=URI;X-ADDRESS=Chem. des Boulbènes\, Fons
 orbes\, Occitanie\, 31470\, France;X-APPLE-RADIUS=100;X-TITLE=Dojo de Fons
 orbes:geo:0,0
END:VEVENT
BEGIN:VTIMEZONE
TZID:Europe/Paris
X-LIC-LOCATION:Europe/Paris
BEGIN:DAYLIGHT
DTSTART:20250330T030000
TZOFFSETFROM:+0100
TZOFFSETTO:+0200
TZNAME:CEST
END:DAYLIGHT
END:VTIMEZONE
END:VCALENDAR