BEGIN:VCALENDAR
VERSION:2.0
PRODID:-//wp-events-plugin.com//7.2.3.1//EN
TZID:Europe/Paris
X-WR-TIMEZONE:Europe/Paris
BEGIN:VEVENT
UID:22@test.fonsorbes-judo.fr
DTSTART;TZID=Europe/Paris:20250628T113000
DTEND;TZID=Europe/Paris:20250628T170000
DTSTAMP:20250610T195209Z
URL:https://test.fonsorbes-judo.fr/events/sortie-aquaparc/
SUMMARY:Sortie Aquaparc
DESCRIPTION:\n\nLe samedi 28 juin\, nous vous donnons rendez-vous à Aquapa
 rc Toulouse\, pour un pique-nique partagé et une après-midi détente.\n\
 nA cette occasion\, l'AF Judo offrira une activité à chaque judoka. Les 
 frères et sœurs non-pratiquants ainsi que les parents-accompagnateurs po
 urront bénéficier du tarif groupe négocié par le club\, ainsi que d'un
 e participation de l'AF Judo pour une activité au choix\, ce qui ramèner
 a l'activité au tarif de 8€. Si les judokas souhaitent participer à un
 e activité supplémentaire\, le même tarif sera appliqué.\n\n\nVoici la
  liste des activités au choix : \n\n 	1h de WATERJUMP : toboggans rectil
 ignes se terminant par un tremplin. Différents niveaux permettent aux plu
 s téméraires de s'envoler dans les airs avant le grand plouf ! A partir 
 de 6 ans\, savoir nager. Frissons et adrénaline au menu !\n 	1h de WATERG
 AME : véritable parcours d'aventure flottant de la marque "Wibit" compos
 é de divers modules assemblés (trampolines\, toboggans\, obstacles\, plo
 ngeoirs\, etc.). Inventez vos propres règles et relevez le défi ! A part
 ir de 6 ans\, savoir nager.\n 	1 après-midi SPLASHGAME : parc de jeux gon
 flables terrestres avec fontaines\, douches et canons à eau\, pour que le
 s plus petits en profitent (de 2 à 8 ans) autant que ceux qui savent nage
 r.\n\nInscription obligatoire\, au plus tard le 25 juin\, pour le(s) judok
 a(s) et sa(leur) famille : Inscription sortie Aquaparc (mot de passe JudoA
 F).\n\nLe règlement de la sortie se fera sur place.\nNous vous rappelons 
 que les enfants seront sous la surveillance de leurs parents sur le site.\
 nSeule la zone d'activité Waterjump / Watergame est surveillée par des m
 aîtres nageurs. \n\n
ATTACH;FMTTYPE=image/jpeg:https://test.fonsorbes-judo.fr/wp-content/upload
 s/2025/05/aqua.png
CATEGORIES:Rencontre
LOCATION:Aquaparc\, 360\, chemin de la Thésauque\, MONTGEARD\, 31560 \, Fr
 ance
X-APPLE-STRUCTURED-LOCATION;VALUE=URI;X-ADDRESS=360\, chemin de la Thésauq
 ue\, MONTGEARD\, 31560 \, France;X-APPLE-RADIUS=100;X-TITLE=Aquaparc:geo:0
 ,0
END:VEVENT
BEGIN:VTIMEZONE
TZID:Europe/Paris
X-LIC-LOCATION:Europe/Paris
BEGIN:DAYLIGHT
DTSTART:20250330T030000
TZOFFSETFROM:+0100
TZOFFSETTO:+0200
TZNAME:CEST
END:DAYLIGHT
END:VTIMEZONE
END:VCALENDAR