BEGIN:VCALENDAR
VERSION:2.0
PRODID:-//wp-events-plugin.com//7.2.3.1//EN
TZID:Europe/Paris
X-WR-TIMEZONE:Europe/Paris
BEGIN:VEVENT
UID:21@test.fonsorbes-judo.fr
DTSTART;TZID=Europe/Paris:20250621T090000
DTEND;TZID=Europe/Paris:20250621T120000
DTSTAMP:20250526T194617Z
URL:https://test.fonsorbes-judo.fr/events/sortie-taiso-a-caliceo/
SUMMARY:Sortie Taïso à Calicéo
DESCRIPTION:Sortie de fin d'année pour les Taïsotistes.\n\nAu programme\n
 \n 	9h00 - 10h00 : un peu de sueur avec un cours d'aqua-training\n 	10h00 
 - 12h00 : un peu de bien-être avec la thalasso\n 	12h00 - ... : repas con
 vivial\n\nMerci de vous inscrire ici : Inscriptions Calicéo (mot de passe
  JudoAF)
ATTACH;FMTTYPE=image/jpeg:https://test.fonsorbes-judo.fr/wp-content/upload
 s/2025/05/caliceo-toulouse.jpg
CATEGORIES:Rencontre
LOCATION:Calicéo\, 1 Rue de Cabanis\, L'Union\, 31240\, France
X-APPLE-STRUCTURED-LOCATION;VALUE=URI;X-ADDRESS=1 Rue de Cabanis\, L'Union\
 , 31240\, France;X-APPLE-RADIUS=100;X-TITLE=Calicéo:geo:0,0
END:VEVENT
BEGIN:VTIMEZONE
TZID:Europe/Paris
X-LIC-LOCATION:Europe/Paris
BEGIN:DAYLIGHT
DTSTART:20250330T030000
TZOFFSETFROM:+0100
TZOFFSETTO:+0200
TZNAME:CEST
END:DAYLIGHT
END:VTIMEZONE
END:VCALENDAR