BEGIN:VCALENDAR
VERSION:2.0
PRODID:-//wp-events-plugin.com//7.2.3.1//EN
TZID:Europe/Paris
X-WR-TIMEZONE:Europe/Paris
BEGIN:VEVENT
UID:15@test.fonsorbes-judo.fr
DTSTART;TZID=Europe/Paris:20250426T140000
DTEND;TZID=Europe/Paris:20250426T163000
DTSTAMP:20250425T085150Z
URL:https://test.fonsorbes-judo.fr/events/stage-de-ne-waza/
SUMMARY:Stage de Ne Waza
DESCRIPTION:L'Avenir Fonsorbais Judo organise un stage de judo ne-waza le s
 amedi 26 avril de 14h à 16h30 au dojo René VIVIES\, à Fonsorbes.\nLe st
 age sera animé par Léna KULIFAJ\, notre enseignante\, ceinture noire de 
 Judo (4e dan)\, ceinture noire de JJB\, et compétitrice aguerrie dans les
  deux disciplines.\n\n\n\n\nLe stage est ouvert à tous les judokas à par
 tir de la catégorie Minime jusqu'à Vétéran\, sans condition de grade.\
 nInscription stage Ne-waza du 26 avril 2025\n\n\n\n
ATTACH;FMTTYPE=image/jpeg:https://test.fonsorbes-judo.fr/wp-content/upload
 s/2024/12/Logo_256-2.png
LOCATION:Dojo de Fonsorbes\, Chem. des Boulbènes\, Fonsorbes\, Occitanie\,
  31470\, France
X-APPLE-STRUCTURED-LOCATION;VALUE=URI;X-ADDRESS=Chem. des Boulbènes\, Fons
 orbes\, Occitanie\, 31470\, France;X-APPLE-RADIUS=100;X-TITLE=Dojo de Fons
 orbes:geo:0,0
END:VEVENT
BEGIN:VTIMEZONE
TZID:Europe/Paris
X-LIC-LOCATION:Europe/Paris
BEGIN:DAYLIGHT
DTSTART:20250330T030000
TZOFFSETFROM:+0100
TZOFFSETTO:+0200
TZNAME:CEST
END:DAYLIGHT
END:VTIMEZONE
END:VCALENDAR