BEGIN:VCALENDAR
VERSION:2.0
PRODID:-//wp-events-plugin.com//7.2.3.1//EN
TZID:Europe/Paris
X-WR-TIMEZONE:Europe/Paris
BEGIN:VEVENT
UID:6@test.fonsorbes-judo.fr
DTSTART;TZID=Europe/Paris:20250425T090000
DTEND;TZID=Europe/Paris:20250425T170000
DTSTAMP:20250401T055817Z
URL:https://test.fonsorbes-judo.fr/events/stage-m-b-p2-4/
SUMMARY:Stage Printemps 2025
DESCRIPTION:\n\n\n\nLe club AFJudo organise un stage de judo pendant les va
 cances de Printemps 2025.\n\nCe stage est ouvert aux adhérents et licenci
 és du club\, des poussins aux cadets 1 (judokas nés entre 2010 et 2016).
  Il sera animé par Léna KULIFAJ\, et se déroulera au dojo de Fonsorbes\
 , le Vendredi 25 avril\, de 9h à 17h.\n\nTarif : 20€\n\nInscription en 
 ligne obligatoire : Inscription stage AFJudo Printemps 2025\n\nUn accueil 
 pourra être mis en place à partir de 8h30\, selon les demandes.\n\nA not
 er que si le nombre de participants est inférieur à  8\, nous préfére
 rons annuler le stage.\n\nLes judokas devront prévoir un pique-nique. Le 
 goûter sera offert par le club.\n\n\n\n
ATTACH;FMTTYPE=image/jpeg:https://test.fonsorbes-judo.fr/wp-content/upload
 s/2024/12/Affiche-Stage-Printemps-2025.png
CATEGORIES:Stage
LOCATION:Dojo de Fonsorbes\, Chem. des Boulbènes\, Fonsorbes\, Occitanie\,
  31470\, France
X-APPLE-STRUCTURED-LOCATION;VALUE=URI;X-ADDRESS=Chem. des Boulbènes\, Fons
 orbes\, Occitanie\, 31470\, France;X-APPLE-RADIUS=100;X-TITLE=Dojo de Fons
 orbes:geo:0,0
END:VEVENT
BEGIN:VTIMEZONE
TZID:Europe/Paris
X-LIC-LOCATION:Europe/Paris
BEGIN:DAYLIGHT
DTSTART:20250330T030000
TZOFFSETFROM:+0100
TZOFFSETTO:+0200
TZNAME:CEST
END:DAYLIGHT
END:VTIMEZONE
END:VCALENDAR