BEGIN:VCALENDAR
VERSION:2.0
PRODID:-//wp-events-plugin.com//7.2.3.1//EN
TZID:Europe/Paris
X-WR-TIMEZONE:Europe/Paris
BEGIN:VEVENT
UID:2@test.fonsorbes-judo.fr
DTSTART;TZID=Europe/Paris:20250217T090000
DTEND;TZID=Europe/Paris:20250217T170000
DTSTAMP:20250216T185808Z
URL:https://test.fonsorbes-judo.fr/events/stage-m-b-p2/
SUMMARY:Stage Hiver 2025 - Journée #1 (judokas 2010-2015)
DESCRIPTION:Votre club AFJudo organise des stages de judo pendant la premi
 ère semaine des vacances d'hiver\, ouverts aux adhérents et licenciés d
 u club.\nIls seront animés par Léna\, et se dérouleront au dojo de Fons
 orbes\nCette journée du lundi\, de 9h à 17h\, est réservée aux judokas
  nés entre 2010 et 2015 (de Poussin 2 à Cadet 1).\nUn accueil pourra êt
 re mis en place à partir de 8h30 (selon les demandes). Pour cette journé
 e de stage\, les judokas devront apporter un pique nique.\nPour participer
  à un ou plusieurs jours de stage\, merci d'inscrire votre enfant et de p
 rocéder au règlement sur notre billetterie en ligne : Inscription-Stage
 -afjudo-hiver-2025\nNB: une contribution à HelloAsso vous sera proposée.
  Si vous ne souhaitez pas soutenir ce service\, il vous suffit de cliquer 
 sur Modifier et de passer la contribution à 0€.\nA noter que si le nomb
 re de participants est inférieur à 8\, nous préférons annuler le stage
 .
ATTACH;FMTTYPE=image/jpeg:https://test.fonsorbes-judo.fr/wp-content/upload
 s/2024/12/Logo_512-2.png
CATEGORIES:Stage
LOCATION:Dojo de Fonsorbes\, Chem. des Boulbènes\, Fonsorbes\, Occitanie\,
  31470\, France
X-APPLE-STRUCTURED-LOCATION;VALUE=URI;X-ADDRESS=Chem. des Boulbènes\, Fons
 orbes\, Occitanie\, 31470\, France;X-APPLE-RADIUS=100;X-TITLE=Dojo de Fons
 orbes:geo:0,0
END:VEVENT
BEGIN:VTIMEZONE
TZID:Europe/Paris
X-LIC-LOCATION:Europe/Paris
BEGIN:STANDARD
DTSTART:20241027T020000
TZOFFSETFROM:+0200
TZOFFSETTO:+0100
TZNAME:CET
END:STANDARD
END:VTIMEZONE
END:VCALENDAR